BEGIN:VCALENDAR
VERSION:2.0
PRODID:-//New Jersey Alliance for Clinical and Translational Science - ECPv6.15.14//NONSGML v1.0//EN
CALSCALE:GREGORIAN
METHOD:PUBLISH
X-ORIGINAL-URL:https://clinicaltrials.rbhs.rutgers.edu
X-WR-CALDESC:Events for New Jersey Alliance for Clinical and Translational Science
REFRESH-INTERVAL;VALUE=DURATION:PT1H
X-Robots-Tag:noindex
X-PUBLISHED-TTL:PT1H
BEGIN:VTIMEZONE
TZID:UTC
BEGIN:STANDARD
TZOFFSETFROM:+0000
TZOFFSETTO:+0000
TZNAME:UTC
DTSTART:20210101T000000
END:STANDARD
END:VTIMEZONE
BEGIN:VEVENT
DTSTART;TZID=UTC:20220201T120000
DTEND;TZID=UTC:20220201T130000
DTSTAMP:20260424T221237
CREATED:20220112T220052Z
LAST-MODIFIED:20220112T220052Z
UID:26943-1643716800-1643720400@clinicaltrials.rbhs.rutgers.edu
SUMMARY:NJ ACTS Special Populations Core 2022 Seminar Series
DESCRIPTION:NJ ACTS Special Populations Core 2022 Seminar Series-Working with the News Media\, Megan Schumann\, Senior Public Relations Specialist\, R-Comm and Patti Verbanas\, R-Comm Assistant Director\, Public & Media Relations\, Rutgers.  View Flyer.  Join via Zoom.
URL:https://clinicaltrials.rbhs.rutgers.edu/event/nj-acts-special-populations-core-2022-seminar-series/
END:VEVENT
END:VCALENDAR