BEGIN:VCALENDAR
VERSION:2.0
PRODID:-//New Jersey Alliance for Clinical and Translational Science - ECPv6.15.14//NONSGML v1.0//EN
CALSCALE:GREGORIAN
METHOD:PUBLISH
X-WR-CALNAME:New Jersey Alliance for Clinical and Translational Science
X-ORIGINAL-URL:https://clinicaltrials.rbhs.rutgers.edu
X-WR-CALDESC:Events for New Jersey Alliance for Clinical and Translational Science
REFRESH-INTERVAL;VALUE=DURATION:PT1H
X-Robots-Tag:noindex
X-PUBLISHED-TTL:PT1H
BEGIN:VTIMEZONE
TZID:UTC
BEGIN:STANDARD
TZOFFSETFROM:+0000
TZOFFSETTO:+0000
TZNAME:UTC
DTSTART:20210101T000000
END:STANDARD
END:VTIMEZONE
BEGIN:VEVENT
DTSTART;TZID=UTC:20220121T123000
DTEND;TZID=UTC:20220121T130000
DTSTAMP:20260421T034642
CREATED:20211110T192338Z
LAST-MODIFIED:20211110T192742Z
UID:25899-1642768200-1642770000@clinicaltrials.rbhs.rutgers.edu
SUMMARY:Campus Communication Cafe - Free Virtual Mini Workshop Series for Rutgers staff\, instructors/faculty & postdocs
DESCRIPTION:Campus Communication Cafe – Free Virtual Mini Workshop Series for Rutgers staff\, instructors/faculty & postdocs \nTOPIC TBD\n \nREGISTER HERE! 
URL:https://clinicaltrials.rbhs.rutgers.edu/event/campus-communication-cafe-free-virtual-mini-workshop-series-for-rutgers-staff-instructors-faculty-postdocs-5/
END:VEVENT
END:VCALENDAR