BEGIN:VCALENDAR
VERSION:2.0
PRODID:-//New Jersey Alliance for Clinical and Translational Science - ECPv6.15.14//NONSGML v1.0//EN
CALSCALE:GREGORIAN
METHOD:PUBLISH
X-WR-CALNAME:New Jersey Alliance for Clinical and Translational Science
X-ORIGINAL-URL:https://clinicaltrials.rbhs.rutgers.edu
X-WR-CALDESC:Events for New Jersey Alliance for Clinical and Translational Science
REFRESH-INTERVAL;VALUE=DURATION:PT1H
X-Robots-Tag:noindex
X-PUBLISHED-TTL:PT1H
BEGIN:VTIMEZONE
TZID:UTC
BEGIN:STANDARD
TZOFFSETFROM:+0000
TZOFFSETTO:+0000
TZNAME:UTC
DTSTART:20200101T000000
END:STANDARD
END:VTIMEZONE
BEGIN:VEVENT
DTSTART;VALUE=DATE:20211206
DTEND;VALUE=DATE:20211207
DTSTAMP:20260421T035842
CREATED:20211122T203511Z
LAST-MODIFIED:20211122T203543Z
UID:26123-1638748800-1638835199@clinicaltrials.rbhs.rutgers.edu
SUMMARY:RBHS Women and Gender Equity Council present "Women Scientists Who Lead: A Panel Discussion" (Film Viewing)
DESCRIPTION:RBHS Women and Gender Equity Council present “Women Scientists Who Lead: A Panel Discussion” (Virtual Event) – Register HERE! \nFilm Viewing | December 4th-6th (via online stream)\nDiscussion | Wednesday\, December 8th 4-5:30pm \nJoin a panel discussion inspired by the documentary film “Picture a Scientist.” The film showcases three women scientists and their journey deep into their own experiences of overcoming harassment\, institutional discrimination\, and years of subtle slights to revolutionize science’s culture. The discussion aims to generate dialogue on fostering a diverse\, inclusive\, and understanding environment throughout the RBHS community. View flyer for featured panelists.
URL:https://clinicaltrials.rbhs.rutgers.edu/event/rbhs-women-and-gender-equity-council-present-women-scientists-who-lead-a-panel-discussion-film-discussion-3/
END:VEVENT
BEGIN:VEVENT
DTSTART;TZID=UTC:20211206T130000
DTEND;TZID=UTC:20211206T140000
DTSTAMP:20260421T035842
CREATED:20211012T174006Z
LAST-MODIFIED:20211130T200317Z
UID:25056-1638795600-1638799200@clinicaltrials.rbhs.rutgers.edu
SUMMARY:CHI Science Seminar Series 2021-2022: A Hidden Regulator of Neuromodulation and Motor Learning: Protein Synthesis by the 'Integrated Stress Response' ISR"
DESCRIPTION:CHI Science Seminar Series 2021-2022: A Hidden Regulator of Neuromodulation and Motor Learning: Protein Synthesis by the ‘Integrated Stress Response’ ISR” (Virtual)\nSpeaker: Nicole Calakos\, MD\, PhD Professor\, Departments of Neurology\, Neurobiology\, & Cell Biology Lincoln Financial Group Distinguished Professor of Neurobiology Duke University School of Medicine \nZoom Meeting: https://rutgers.zoom.us/j/99141506517?pwd=NFNDK3BiWkxabzBWNEt0RkMzWEtiZz09 \nMeeting ID: 991 4150 6517 \nPassword: 185882
URL:https://clinicaltrials.rbhs.rutgers.edu/event/chi-science-seminar-series-2021-2022-to-understand-the-molecular-mechanisms-for-synaptic-plasticity-and-identify-when-these-processes-have-gone-awry-in-neurological-diseases/
END:VEVENT
END:VCALENDAR