BEGIN:VCALENDAR
VERSION:2.0
PRODID:-//New Jersey Alliance for Clinical and Translational Science - ECPv6.15.14//NONSGML v1.0//EN
CALSCALE:GREGORIAN
METHOD:PUBLISH
X-WR-CALNAME:New Jersey Alliance for Clinical and Translational Science
X-ORIGINAL-URL:https://clinicaltrials.rbhs.rutgers.edu
X-WR-CALDESC:Events for New Jersey Alliance for Clinical and Translational Science
REFRESH-INTERVAL;VALUE=DURATION:PT1H
X-Robots-Tag:noindex
X-PUBLISHED-TTL:PT1H
BEGIN:VTIMEZONE
TZID:UTC
BEGIN:STANDARD
TZOFFSETFROM:+0000
TZOFFSETTO:+0000
TZNAME:UTC
DTSTART:20200101T000000
END:STANDARD
END:VTIMEZONE
BEGIN:VEVENT
DTSTART;TZID=UTC:20211117T100000
DTEND;TZID=UTC:20211117T113000
DTSTAMP:20260423T202303
CREATED:20211019T165957Z
LAST-MODIFIED:20211019T170047Z
UID:25273-1637143200-1637148600@clinicaltrials.rbhs.rutgers.edu
SUMMARY:CEED 4th Annual Environmental Health Summit - Virtual Seminar Series: Chemical Exposures of Consumer Products
DESCRIPTION:CEED 4th Annual Environmental Health Summit – Virtual Seminar Series: Chemical Exposures of Consumer Products\nThis year\, Rutgers Center for Environmental Exposures and Disease in partnership with parents\, nonprofit leaders\, advocates\, policymakers\, academics\, health professionals and researchers is offering a series of webinars exploring the impact of environmental factors on Maternal and Child Health and Justice. This series introduces thought leaders and researchers\, offers the latest substantive information\, provides opportunities for discussion and recommends both policy actions and steps you can take personally to protect your health and the promote the health of your family and community. The sessions begin this Fall and continue through the Winter on select Wednesday’s from 10am-11:30am. \nRegister HERE to join the Conversation!
URL:https://clinicaltrials.rbhs.rutgers.edu/event/ceed-4th-annual-environmental-health-summit-virtual-seminar-series-chemical-exposures-of-consumer-products/
END:VEVENT
BEGIN:VEVENT
DTSTART;TZID=UTC:20211117T130000
DTEND;TZID=UTC:20211117T143000
DTSTAMP:20260423T202303
CREATED:20210830T200609Z
LAST-MODIFIED:20221005T175817Z
UID:24250-1637154000-1637159400@clinicaltrials.rbhs.rutgers.edu
SUMMARY:Workforce Development Core Clinical Research Management collaborative Training Series
DESCRIPTION:Workforce Development Core Clinical Research Management collaborative Training Series – Regulatory Requirements for the Academic Researcher\, Lisa Cooper\, PhD\, RAC\, CMWP – Assistant Professor\, MS Clinical Research Management\, Anthony Gonzalez\, MS – Manager\, Quality Assurance & Quality Control\, Farah Anwar\, B.A. – CTO Regulatory Affairs Manager REGISTER HERE!
URL:https://clinicaltrials.rbhs.rutgers.edu/event/nj-acts-clinical-research-webinar-series-2/
END:VEVENT
BEGIN:VEVENT
DTSTART;TZID=UTC:20211117T153000
DTEND;TZID=UTC:20211117T170000
DTSTAMP:20260423T202303
CREATED:20211025T170204Z
LAST-MODIFIED:20211111T172031Z
UID:25419-1637163000-1637168400@clinicaltrials.rbhs.rutgers.edu
SUMMARY:CINJ Grand Rounds: "Pathophysiology Targeted Therapeutics of Nash"
DESCRIPTION:CINJ Grand Rounds: “Pathophysiology Targeted Therapeutics of Nash”  Pre-register HERE! \nInvited Speaker\nArun J. Sanyal\, MBBS\, MD\, FAASLD \nInterim Chairman\, Division of Gastroenterology\, Hepatology and Nutrition\nProfessor of Medicine Physiology and Molecular Pathology\nVirginia Commonwealth University Health System
URL:https://clinicaltrials.rbhs.rutgers.edu/event/cinj-grand-rounds-15/
END:VEVENT
BEGIN:VEVENT
DTSTART;TZID=UTC:20211117T160000
DTEND;TZID=UTC:20211117T170000
DTSTAMP:20260423T202303
CREATED:20211020T202413Z
LAST-MODIFIED:20211020T202413Z
UID:25369-1637164800-1637168400@clinicaltrials.rbhs.rutgers.edu
SUMMARY:Research Resources Workshop Wednesday Series
DESCRIPTION:Research Resources Workshop Wednesday Series-Rutgers Research Innovation\, Dr. Tatiana Litvin-Vechnyak\, Associate Vice President\, Innovation Ventures. Join via Zoom
URL:https://clinicaltrials.rbhs.rutgers.edu/event/research-resources-workshop-wednesday-series/
END:VEVENT
END:VCALENDAR