BEGIN:VCALENDAR
VERSION:2.0
PRODID:-//New Jersey Alliance for Clinical and Translational Science - ECPv6.15.14//NONSGML v1.0//EN
CALSCALE:GREGORIAN
METHOD:PUBLISH
X-WR-CALNAME:New Jersey Alliance for Clinical and Translational Science
X-ORIGINAL-URL:https://clinicaltrials.rbhs.rutgers.edu
X-WR-CALDESC:Events for New Jersey Alliance for Clinical and Translational Science
REFRESH-INTERVAL;VALUE=DURATION:PT1H
X-Robots-Tag:noindex
X-PUBLISHED-TTL:PT1H
BEGIN:VTIMEZONE
TZID:UTC
BEGIN:STANDARD
TZOFFSETFROM:+0000
TZOFFSETTO:+0000
TZNAME:UTC
DTSTART:20200101T000000
END:STANDARD
END:VTIMEZONE
BEGIN:VEVENT
DTSTART;TZID=UTC:20211113T073000
DTEND;TZID=UTC:20211113T140000
DTSTAMP:20260424T053459
CREATED:20210922T161619Z
LAST-MODIFIED:20210922T161619Z
UID:24606-1636788600-1636812000@clinicaltrials.rbhs.rutgers.edu
SUMMARY:The Eight Evidence-Based Pediatric Update Symposium
DESCRIPTION:The Eight Evidence-Based Pediatric Update Symposium – LIVE ONLINE\nThis activity will highlight the latest diagnostic techniques and management strategies that impact the care of patients with common and complex pediatric disorders.\n \nClick here for more information and to register.
URL:https://clinicaltrials.rbhs.rutgers.edu/event/the-eight-evidence-based-pediatric-update-symposium/
END:VEVENT
END:VCALENDAR