BEGIN:VCALENDAR
VERSION:2.0
PRODID:-//New Jersey Alliance for Clinical and Translational Science - ECPv6.15.14//NONSGML v1.0//EN
CALSCALE:GREGORIAN
METHOD:PUBLISH
X-WR-CALNAME:New Jersey Alliance for Clinical and Translational Science
X-ORIGINAL-URL:https://clinicaltrials.rbhs.rutgers.edu
X-WR-CALDESC:Events for New Jersey Alliance for Clinical and Translational Science
REFRESH-INTERVAL;VALUE=DURATION:PT1H
X-Robots-Tag:noindex
X-PUBLISHED-TTL:PT1H
BEGIN:VTIMEZONE
TZID:UTC
BEGIN:STANDARD
TZOFFSETFROM:+0000
TZOFFSETTO:+0000
TZNAME:UTC
DTSTART:20200101T000000
END:STANDARD
END:VTIMEZONE
BEGIN:VEVENT
DTSTART;TZID=UTC:20211112T093000
DTEND;TZID=UTC:20211112T170000
DTSTAMP:20260421T222926
CREATED:20211111T193542Z
LAST-MODIFIED:20211111T193542Z
UID:25937-1636709400-1636736400@clinicaltrials.rbhs.rutgers.edu
SUMMARY:TL1 William Schnaper Visiting Scientist Program First Grand Rounds
DESCRIPTION:TL1 William Schnaper Visiting Scientist Program First Grand Rounds-University of North Carolina presents “Technological solutions to therapeutic challenges in stroke rehabilitation” Alexander Brunfeldt\, PhD Fellow\, Georgetown University Medical Center. View Flyer and Join via Zoom.
URL:https://clinicaltrials.rbhs.rutgers.edu/event/tl1-william-schnaper-visiting-scientist-program-first-grand-rounds/
END:VEVENT
END:VCALENDAR