BEGIN:VCALENDAR
VERSION:2.0
PRODID:-//New Jersey Alliance for Clinical and Translational Science - ECPv6.15.14//NONSGML v1.0//EN
CALSCALE:GREGORIAN
METHOD:PUBLISH
X-WR-CALNAME:New Jersey Alliance for Clinical and Translational Science
X-ORIGINAL-URL:https://clinicaltrials.rbhs.rutgers.edu
X-WR-CALDESC:Events for New Jersey Alliance for Clinical and Translational Science
REFRESH-INTERVAL;VALUE=DURATION:PT1H
X-Robots-Tag:noindex
X-PUBLISHED-TTL:PT1H
BEGIN:VTIMEZONE
TZID:UTC
BEGIN:STANDARD
TZOFFSETFROM:+0000
TZOFFSETTO:+0000
TZNAME:UTC
DTSTART:20200101T000000
END:STANDARD
END:VTIMEZONE
BEGIN:VEVENT
DTSTART;TZID=UTC:20210412T100000
DTEND;TZID=UTC:20210412T110000
DTSTAMP:20260423T194819
CREATED:20210323T180536Z
LAST-MODIFIED:20210323T180536Z
UID:20912-1618221600-1618225200@clinicaltrials.rbhs.rutgers.edu
SUMMARY:Senior Wellness Connection Program
DESCRIPTION:Senior Wellness Connection Program-Newark Beth Israel Medical Center helps seniors stay connected with virtual classes on a variety of health topics. Call 973-926-6671 to register.
URL:https://clinicaltrials.rbhs.rutgers.edu/event/senior-wellness-connection-program-4/
END:VEVENT
END:VCALENDAR