BEGIN:VCALENDAR
VERSION:2.0
PRODID:-//New Jersey Alliance for Clinical and Translational Science - ECPv6.15.14//NONSGML v1.0//EN
CALSCALE:GREGORIAN
METHOD:PUBLISH
X-WR-CALNAME:New Jersey Alliance for Clinical and Translational Science
X-ORIGINAL-URL:https://clinicaltrials.rbhs.rutgers.edu
X-WR-CALDESC:Events for New Jersey Alliance for Clinical and Translational Science
REFRESH-INTERVAL;VALUE=DURATION:PT1H
X-Robots-Tag:noindex
X-PUBLISHED-TTL:PT1H
BEGIN:VTIMEZONE
TZID:UTC
BEGIN:STANDARD
TZOFFSETFROM:+0000
TZOFFSETTO:+0000
TZNAME:UTC
DTSTART:20200101T000000
END:STANDARD
END:VTIMEZONE
BEGIN:VEVENT
DTSTART;TZID=UTC:20210331T100000
DTEND;TZID=UTC:20210331T110000
DTSTAMP:20260421T161100
CREATED:20210330T204127Z
LAST-MODIFIED:20210331T174004Z
UID:21198-1617184800-1617188400@clinicaltrials.rbhs.rutgers.edu
SUMMARY:Rutgers Princeton Center for Computational Cognitive Neuropsychiatry Seminar
DESCRIPTION:Rutgers Princeton Center for Computational Cognitive Neuropsychiatry Seminar-How Negative Schizotypy Influences Decision-Making in the Beads Task\, Serena De Stefani\, Rutgers. \n 
URL:https://clinicaltrials.rbhs.rutgers.edu/event/rutgers-princeton-center-for-computational-cognitive-neuropsychiatry-seminar-12/
END:VEVENT
BEGIN:VEVENT
DTSTART;TZID=UTC:20210331T160000
DTEND;TZID=UTC:20210331T170000
DTSTAMP:20260421T161100
CREATED:20210329T181913Z
LAST-MODIFIED:20210329T181913Z
UID:21115-1617206400-1617210000@clinicaltrials.rbhs.rutgers.edu
SUMMARY:CINJ Grand Rounds
DESCRIPTION:CINJ Grand Rounds-Identification and Characterization of the New Drivers of Advanced Prostate Cancer to Develop Targeted Therapies\, Goutam Chakraborty\, Memorial Sloan Kettering. To Pre-Register.
URL:https://clinicaltrials.rbhs.rutgers.edu/event/cinj-grand-rounds-8/
END:VEVENT
END:VCALENDAR