BEGIN:VCALENDAR
VERSION:2.0
PRODID:-//New Jersey Alliance for Clinical and Translational Science - ECPv6.15.14//NONSGML v1.0//EN
CALSCALE:GREGORIAN
METHOD:PUBLISH
X-WR-CALNAME:New Jersey Alliance for Clinical and Translational Science
X-ORIGINAL-URL:https://clinicaltrials.rbhs.rutgers.edu
X-WR-CALDESC:Events for New Jersey Alliance for Clinical and Translational Science
REFRESH-INTERVAL;VALUE=DURATION:PT1H
X-Robots-Tag:noindex
X-PUBLISHED-TTL:PT1H
BEGIN:VTIMEZONE
TZID:UTC
BEGIN:STANDARD
TZOFFSETFROM:+0000
TZOFFSETTO:+0000
TZNAME:UTC
DTSTART:20200101T000000
END:STANDARD
END:VTIMEZONE
BEGIN:VEVENT
DTSTART;TZID=UTC:20210201T130000
DTEND;TZID=UTC:20210201T130000
DTSTAMP:20260423T225859
CREATED:20210104T185237Z
LAST-MODIFIED:20210104T185237Z
UID:18975-1612184400-1612184400@clinicaltrials.rbhs.rutgers.edu
SUMMARY:Child Health Institute of New Jersey Science Seminar Series
DESCRIPTION:Child Health Institute of New Jersey Science Seminar Series –\nChristopher Buettner\, MD\, PhD Chief\, Division of Endocrinology\, Metabolism & Nutrition Vice Chair for Basic Research Department of Medicine Rutgers Robert Wood Johnson Medical school.\nStudies how and why obesity and diabetes disturb glucose and fat metabolism\, impair the action of the hormone insulin\, are associated with inflammation and what the role of the brain is in this metabolic dysregulation.
URL:https://clinicaltrials.rbhs.rutgers.edu/event/child-health-institute-of-new-jersey-science-seminar-series-3/
END:VEVENT
END:VCALENDAR