BEGIN:VCALENDAR
VERSION:2.0
PRODID:-//New Jersey Alliance for Clinical and Translational Science - ECPv6.15.14//NONSGML v1.0//EN
CALSCALE:GREGORIAN
METHOD:PUBLISH
X-WR-CALNAME:New Jersey Alliance for Clinical and Translational Science
X-ORIGINAL-URL:https://clinicaltrials.rbhs.rutgers.edu
X-WR-CALDESC:Events for New Jersey Alliance for Clinical and Translational Science
REFRESH-INTERVAL;VALUE=DURATION:PT1H
X-Robots-Tag:noindex
X-PUBLISHED-TTL:PT1H
BEGIN:VTIMEZONE
TZID:UTC
BEGIN:STANDARD
TZOFFSETFROM:+0000
TZOFFSETTO:+0000
TZNAME:UTC
DTSTART:20200101T000000
END:STANDARD
END:VTIMEZONE
BEGIN:VEVENT
DTSTART;TZID=UTC:20210125T080000
DTEND;TZID=UTC:20210128T170000
DTSTAMP:20260420T104354
CREATED:20201216T204837Z
LAST-MODIFIED:20201216T204837Z
UID:18800-1611561600-1611853200@clinicaltrials.rbhs.rutgers.edu
SUMMARY:Certified Tobacco Treatment Specialist Training
DESCRIPTION:Certified Tobacco Treatment Specialist Training – This conference is designed for Social Workers; Nurses; Psychologists; Certified Counselors; Certified Alcohol and Drug Counselors; Marriage and Family Therapist and other health care professionals who treat tobacco users \nRegistration 7:30am to 8:00am TRAINING RATE: $1075 \nJanuary 25\, 2021 – January 28\, 2021 8:00 am – 5:30 pm\nMore information here: http://www.tobaccoprogram.org
URL:https://clinicaltrials.rbhs.rutgers.edu/event/certified-tobacco-treatment-specialist-training/
END:VEVENT
BEGIN:VEVENT
DTSTART;VALUE=DATE:20210126
DTEND;VALUE=DATE:20210201
DTSTAMP:20260420T104354
CREATED:20201215T014743Z
LAST-MODIFIED:20210325T182209Z
UID:18776-1611619200-1612137599@clinicaltrials.rbhs.rutgers.edu
SUMMARY:Global Health Case Competition
DESCRIPTION:Global Health Case Competition – Presented by Rutgers Global Health Institute\, the Global Health Case Competition is a new\, semester-long event in which Rutgers students team up to design community-centered solutions to global health problems.\nThe deadline to apply is December 31\, 2020.\nMore info here.
URL:https://clinicaltrials.rbhs.rutgers.edu/event/global-health-case-competition/
END:VEVENT
BEGIN:VEVENT
DTSTART;VALUE=DATE:20210128
DTEND;VALUE=DATE:20210130
DTSTAMP:20260420T104354
CREATED:20210126T034654Z
LAST-MODIFIED:20210126T034654Z
UID:19407-1611792000-1611964799@clinicaltrials.rbhs.rutgers.edu
SUMMARY:Community led initiatives for population health improvement: a workshop
DESCRIPTION:Community led initiatives for population health improvement: a workshop –\nThe Roundtable on Population Health Improvement will host a 2-day virtual workshop addressing community-led initiatives for population health improvement. This event will feature presentations and discussions on community-led action around a variety of population health improvement areas\, including the social determinants of health.\nThe workshop will be held on January 28–29. There will be two sessions daily: 11 am to 1 pm and 2 to 4 pm EST. A copy of the agenda and resources will be posted on the workshop webpage. A recording will also be posted to the workshop webpage two weeks after the event.\nLearn more about the Roundtable on Population Health Improvement here.\nRegister for the Webinar
URL:https://clinicaltrials.rbhs.rutgers.edu/event/community-led-initiatives-for-population-health-improvement-a-workshop/
END:VEVENT
BEGIN:VEVENT
DTSTART;TZID=UTC:20210128T100000
DTEND;TZID=UTC:20210128T110000
DTSTAMP:20260420T104354
CREATED:20210125T201556Z
LAST-MODIFIED:20210125T201556Z
UID:19376-1611828000-1611831600@clinicaltrials.rbhs.rutgers.edu
SUMMARY:From Exposure to Vaccination: The Role of Structural Racism in COVID-19 Inequities (21PHirst Webinar)
DESCRIPTION:From Exposure to Vaccination: The Role of Structural Racism in COVID-19 Inequities (21PHirst Webinar) –\nJoin Dean and Weatherhead Presidential Chair in Health Equity at the Tulane School of Public Health\, Thomas LaVeist\, for “From Exposure to Vaccination: The Role of Structural Racism in COVID-19 Inequities” a 21PHirst Signature Series webinar on January 28\, 2021 at 10:00 a.m. The webinar will explore the social and structural factors driving racial inequities in COVID-19 exposure\, outcomes\, and vaccine uptake over the course of the COVID-19 pandemic.\nClick here for more information.
URL:https://clinicaltrials.rbhs.rutgers.edu/event/from-exposure-to-vaccination-the-role-of-structural-racism-in-covid-19-inequities-21phirst-webinar/
END:VEVENT
BEGIN:VEVENT
DTSTART;TZID=UTC:20210128T103000
DTEND;TZID=UTC:20210128T113000
DTSTAMP:20260420T104354
CREATED:20210129T003908Z
LAST-MODIFIED:20210129T003908Z
UID:19456-1611829800-1611833400@clinicaltrials.rbhs.rutgers.edu
SUMMARY:CII Immunology Seminar Series
DESCRIPTION:CII Immunology Seminar Series – Human tissue immunity in health and COVID-19. \nSpeaker: Donna L. Farber\, PhD\, George H. Humphreys\, II Professor of Surgical Sciences (in Surgery); Professor of Microbiology and Immunology; Chief\, Division of Surgical Sciences; Co-Director\, Integrated I CMBS Graduate Program\, Columbia Center for Translational Immunology\, Columbia University Medical Center. \nJoin via Webex.
URL:https://clinicaltrials.rbhs.rutgers.edu/event/cii-immunology-seminar-series/
END:VEVENT
BEGIN:VEVENT
DTSTART;TZID=UTC:20210128T120000
DTEND;TZID=UTC:20210128T130000
DTSTAMP:20260420T104354
CREATED:20210125T203503Z
LAST-MODIFIED:20210125T203503Z
UID:19378-1611835200-1611838800@clinicaltrials.rbhs.rutgers.edu
SUMMARY:Rutgers Brain Health Institute Faculty Candidate Seminar
DESCRIPTION:Rutgers Brain Health Institute Faculty Candidate Seminar – Effects of Motivation on Neurocognitive Processes across Adolescence.\nSpeaker: Alexandra Cohen\, PhD\, Department of Psychology\, New York University.\nJoin via Zoom.\nMeeting ID: 994 4027 1076\nPassword: 012821 \n 
URL:https://clinicaltrials.rbhs.rutgers.edu/event/rutgers-brain-health-institute-faculty-candidate-seminar/
END:VEVENT
BEGIN:VEVENT
DTSTART;TZID=UTC:20210128T143000
DTEND;TZID=UTC:20210128T153000
DTSTAMP:20260420T104354
CREATED:20210127T195735Z
LAST-MODIFIED:20210127T195735Z
UID:19428-1611844200-1611847800@clinicaltrials.rbhs.rutgers.edu
SUMMARY:CINJ Recruitment Lecture
DESCRIPTION:CINJ Recruitment Lecture – “Integrative Approaches to Enhance Cancer Immune Response”\nSpeaker: Dr. Shengqing (Stan) Gu\, Postdoctoral Research Fellow\, Harvard T.H. Chan School of Public Health\, Dana-Farber Cancer Institute.\nJoin via Webex.\nMeeting number (access code): 120 453 7755\nMeeting password: 8ZrJBrHVY63
URL:https://clinicaltrials.rbhs.rutgers.edu/event/cinj-recruitment-lecture-3/
END:VEVENT
BEGIN:VEVENT
DTSTART;TZID=UTC:20210128T170000
DTEND;TZID=UTC:20210128T170000
DTSTAMP:20260420T104354
CREATED:20210114T221144Z
LAST-MODIFIED:20210114T221144Z
UID:19218-1611853200-1611853200@clinicaltrials.rbhs.rutgers.edu
SUMMARY:Updates on Colon Cancer Screening and Surveillance
DESCRIPTION:Updates on Colon Cancer Screening and Surveillance –\nSpeaker: David Lieberman\, M.D.\, Professor of Medicine\, Chief\, Division of Gastroenterology and Hepatology\, Oregon Health and Science University\, President\, American Gastroenterological Association\, 2018-2019\nJoin via Zoom.\nMeeting ID: 962 7810 9935\nPassword: 831667
URL:https://clinicaltrials.rbhs.rutgers.edu/event/updates-on-colon-cancer-screening-and-surveillance/
END:VEVENT
BEGIN:VEVENT
DTSTART;TZID=UTC:20210128T190000
DTEND;TZID=UTC:20210128T200000
DTSTAMP:20260420T104354
CREATED:20210120T193749Z
LAST-MODIFIED:20210120T193749Z
UID:19294-1611860400-1611864000@clinicaltrials.rbhs.rutgers.edu
SUMMARY:Ask a Medical Professional
DESCRIPTION:Ask a Medical Professional – Part 1; Medical Careers in Public Health and Nursing: Rutgers at the forefront of COVID-19 testing. Meet with Rutgers Scientists associated with Public Health\, Nursing and COVID-19 testing in this Live Virtual Program!\nRegister here for the panel\, and submit your questions for the medical scientists here today.\nFor more info\, email mcdonnel@marine.rutgers.edu
URL:https://clinicaltrials.rbhs.rutgers.edu/event/ask-a-medical-professional/
END:VEVENT
END:VCALENDAR