BEGIN:VCALENDAR
VERSION:2.0
PRODID:-//New Jersey Alliance for Clinical and Translational Science - ECPv6.15.14//NONSGML v1.0//EN
CALSCALE:GREGORIAN
METHOD:PUBLISH
X-WR-CALNAME:New Jersey Alliance for Clinical and Translational Science
X-ORIGINAL-URL:https://clinicaltrials.rbhs.rutgers.edu
X-WR-CALDESC:Events for New Jersey Alliance for Clinical and Translational Science
REFRESH-INTERVAL;VALUE=DURATION:PT1H
X-Robots-Tag:noindex
X-PUBLISHED-TTL:PT1H
BEGIN:VTIMEZONE
TZID:UTC
BEGIN:STANDARD
TZOFFSETFROM:+0000
TZOFFSETTO:+0000
TZNAME:UTC
DTSTART:20190101T000000
END:STANDARD
END:VTIMEZONE
BEGIN:VEVENT
DTSTART;TZID=UTC:20200623T130000
DTEND;TZID=UTC:20200623T140000
DTSTAMP:20260421T054831
CREATED:20200611T184503Z
LAST-MODIFIED:20200611T184503Z
UID:14581-1592917200-1592920800@clinicaltrials.rbhs.rutgers.edu
SUMMARY:American Thoracic Society Webinar
DESCRIPTION:American Thoracic Society Webinar-Assemblies Respiratory Structure and Function (RSF) and Pulmonary Rehabilitation (PR) webinar on Clinical Aspects of COVID-19 Recovery\, Neil Greening\, University of Leicester\, Chris Ryerson\, University of British Columbia\, Reynold A. Panettieri\, Rutgers University. Register Here
URL:https://clinicaltrials.rbhs.rutgers.edu/event/american-thoracic-society-webinar/
END:VEVENT
END:VCALENDAR