BEGIN:VCALENDAR
VERSION:2.0
PRODID:-//New Jersey Alliance for Clinical and Translational Science - ECPv6.15.14//NONSGML v1.0//EN
CALSCALE:GREGORIAN
METHOD:PUBLISH
X-WR-CALNAME:New Jersey Alliance for Clinical and Translational Science
X-ORIGINAL-URL:https://clinicaltrials.rbhs.rutgers.edu
X-WR-CALDESC:Events for New Jersey Alliance for Clinical and Translational Science
REFRESH-INTERVAL;VALUE=DURATION:PT1H
X-Robots-Tag:noindex
X-PUBLISHED-TTL:PT1H
BEGIN:VTIMEZONE
TZID:UTC
BEGIN:STANDARD
TZOFFSETFROM:+0000
TZOFFSETTO:+0000
TZNAME:UTC
DTSTART:20190101T000000
END:STANDARD
END:VTIMEZONE
BEGIN:VEVENT
DTSTART;VALUE=DATE:20200619
DTEND;VALUE=DATE:20200620
DTSTAMP:20260423T150632
CREATED:20200611T192050Z
LAST-MODIFIED:20200611T192050Z
UID:14592-1592524800-1592611199@clinicaltrials.rbhs.rutgers.edu
SUMMARY:NJ ACTS TL1 Fellowship Application Program
DESCRIPTION:NJ ACTS TL1 Fellowship Application Program-This program equips its Fellows with enhanced knowledge\, skills\, and abilities that provide a broad introduction to clinical and translational research concurrent with their current pre- or postdoctoral research program. Letters of Intent are due June 19\, 2020\, applications are due July 3\, 2020 by 5PM. Read more.
URL:https://clinicaltrials.rbhs.rutgers.edu/event/nj-acts-tl1-fellowship-application-program/
END:VEVENT
END:VCALENDAR