BEGIN:VCALENDAR
VERSION:2.0
PRODID:-//New Jersey Alliance for Clinical and Translational Science - ECPv6.15.14//NONSGML v1.0//EN
CALSCALE:GREGORIAN
METHOD:PUBLISH
X-WR-CALNAME:New Jersey Alliance for Clinical and Translational Science
X-ORIGINAL-URL:https://clinicaltrials.rbhs.rutgers.edu
X-WR-CALDESC:Events for New Jersey Alliance for Clinical and Translational Science
REFRESH-INTERVAL;VALUE=DURATION:PT1H
X-Robots-Tag:noindex
X-PUBLISHED-TTL:PT1H
BEGIN:VTIMEZONE
TZID:UTC
BEGIN:STANDARD
TZOFFSETFROM:+0000
TZOFFSETTO:+0000
TZNAME:UTC
DTSTART:20190101T000000
END:STANDARD
END:VTIMEZONE
BEGIN:VEVENT
DTSTART;TZID=UTC:20200601T120000
DTEND;TZID=UTC:20200601T130000
DTSTAMP:20260425T184121
CREATED:20200526T204409Z
LAST-MODIFIED:20200526T204409Z
UID:14419-1591012800-1591016400@clinicaltrials.rbhs.rutgers.edu
SUMMARY:Child Health Institute of New Jersey Special Seminar
DESCRIPTION:Child Health Institute of New Jersey Special Seminar-Tissue-Resident Natural Killer Cells\, Dorothy Sojka\, Washing University School of Medicine in St. Louis. Join via Webex.
URL:https://clinicaltrials.rbhs.rutgers.edu/event/child-health-institute-of-new-jersey-special-seminar-4/
END:VEVENT
END:VCALENDAR