BEGIN:VCALENDAR
VERSION:2.0
PRODID:-//New Jersey Alliance for Clinical and Translational Science - ECPv6.15.14//NONSGML v1.0//EN
CALSCALE:GREGORIAN
METHOD:PUBLISH
X-WR-CALNAME:New Jersey Alliance for Clinical and Translational Science
X-ORIGINAL-URL:https://clinicaltrials.rbhs.rutgers.edu
X-WR-CALDESC:Events for New Jersey Alliance for Clinical and Translational Science
REFRESH-INTERVAL;VALUE=DURATION:PT1H
X-Robots-Tag:noindex
X-PUBLISHED-TTL:PT1H
BEGIN:VTIMEZONE
TZID:UTC
BEGIN:STANDARD
TZOFFSETFROM:+0000
TZOFFSETTO:+0000
TZNAME:UTC
DTSTART:20190101T000000
END:STANDARD
END:VTIMEZONE
BEGIN:VEVENT
DTSTART;TZID=UTC:20200518T120000
DTEND;TZID=UTC:20200518T130000
DTSTAMP:20260423T212423
CREATED:20200309T193643Z
LAST-MODIFIED:20200407T185811Z
UID:12709-1589803200-1589806800@clinicaltrials.rbhs.rutgers.edu
SUMMARY:Cancelled-Child Health Institute of New Jersey Science Seminar
DESCRIPTION:Child Health Institute of New Jersey Science Seminar-The Neurons and Circuits of the Somatosensory System\, Victoria Abraira\, Rutgers. Child Health Institute of New Jersey Room 3209\, 89 French Street\, New Brunswick.
URL:https://clinicaltrials.rbhs.rutgers.edu/event/child-health-institute-of-new-jersey-science-seminar-7/
LOCATION:Child Health Institute of NJ\, Room 3101\, 89 French Street\, New Brunswick\, NJ\, 08901\, United States
END:VEVENT
END:VCALENDAR