BEGIN:VCALENDAR
VERSION:2.0
PRODID:-//New Jersey Alliance for Clinical and Translational Science - ECPv6.15.14//NONSGML v1.0//EN
CALSCALE:GREGORIAN
METHOD:PUBLISH
X-WR-CALNAME:New Jersey Alliance for Clinical and Translational Science
X-ORIGINAL-URL:https://clinicaltrials.rbhs.rutgers.edu
X-WR-CALDESC:Events for New Jersey Alliance for Clinical and Translational Science
REFRESH-INTERVAL;VALUE=DURATION:PT1H
X-Robots-Tag:noindex
X-PUBLISHED-TTL:PT1H
BEGIN:VTIMEZONE
TZID:UTC
BEGIN:STANDARD
TZOFFSETFROM:+0000
TZOFFSETTO:+0000
TZNAME:UTC
DTSTART:20190101T000000
END:STANDARD
END:VTIMEZONE
BEGIN:VEVENT
DTSTART;TZID=UTC:20200430T080000
DTEND;TZID=UTC:20200430T090000
DTSTAMP:20260421T235447
CREATED:20200129T184809Z
LAST-MODIFIED:20200409T165247Z
UID:11861-1588233600-1588237200@clinicaltrials.rbhs.rutgers.edu
SUMMARY:Virtual-RWJMS Pediatric Grand Rounds
DESCRIPTION:RWJMS Pediatric Grand Rounds-TBD\, Kristin Fiorino\, University of Pennsylvania. Clinical Academic Building\, Room 1302\, 125 Paterson Street\, New Brunswick. Join by WebEx.
URL:https://clinicaltrials.rbhs.rutgers.edu/event/rwjms-pediatric-grand-rounds-14/
LOCATION:Clinical Academic Building\, Conference Room 1302\, 125 Paterson Street\, New Brunswick\, NJ\, 08901\, United States
END:VEVENT
BEGIN:VEVENT
DTSTART;TZID=UTC:20200430T110000
DTEND;TZID=UTC:20200430T120000
DTSTAMP:20260421T235447
CREATED:20200409T180200Z
LAST-MODIFIED:20200429T195036Z
UID:13216-1588244400-1588248000@clinicaltrials.rbhs.rutgers.edu
SUMMARY:Child Health Institute Weekly COVID Discussion
DESCRIPTION:Child Health Institute Weekly COVID Discussion– Discussion of Science article “Projecting the transmission dynamics of SARS-CoV-2 through the postpandemic period“\, hosted by Lisa Denzin. Connect via WebEx.
URL:https://clinicaltrials.rbhs.rutgers.edu/event/child-health-institute-weekly-covid-discussion-4/
END:VEVENT
BEGIN:VEVENT
DTSTART;TZID=UTC:20200430T120000
DTEND;TZID=UTC:20200430T130000
DTSTAMP:20260421T235447
CREATED:20200430T210220Z
LAST-MODIFIED:20200430T210220Z
UID:14000-1588248000-1588251600@clinicaltrials.rbhs.rutgers.edu
SUMMARY:Rutgers Princeton Center for Computational Cognitive Neuropsychiatry Lecture (Virtual)
DESCRIPTION:Rutgers Princeton Center for Computational Cognitive Neuropsychiatry Lecture (Virtual)- Interoceptive and Cardiac Processes Applied to Addiction\, Mateo Leganes-Fonataneau\, Rutgers. Join via Webex. By phone 650-429-3300\, Access code: 223 246 184
URL:https://clinicaltrials.rbhs.rutgers.edu/event/rutgers-princeton-center-for-computational-cognitive-neuropsychiatry-lecture-virtual/
END:VEVENT
BEGIN:VEVENT
DTSTART;TZID=UTC:20200430T140000
DTEND;TZID=UTC:20200430T153000
DTSTAMP:20260421T235447
CREATED:20200423T205917Z
LAST-MODIFIED:20200423T205917Z
UID:13924-1588255200-1588260600@clinicaltrials.rbhs.rutgers.edu
SUMMARY:International Society for Research on Impulsivity Meeting (Virtual)
DESCRIPTION:International Society for Research on Impulsivity Meeting (Virtual)- Predicting attention with functional brain connectivity\, Monica Rosenberg\, University of Chicago; Brain-based prediction of opioid versus cocaine abstinence\, Sarah Lichenstein\, Yale University; Hippocampal encoding of reinforcement\, explore/exploit di lemma and suicidal behavior\, Alex Dombrovski\, University of Pittsburgh. Join via https://zoom.us/j/97339072127 and For more information.
URL:https://clinicaltrials.rbhs.rutgers.edu/event/international-society-for-research-on-impulsivity-meeting-virtual/
END:VEVENT
END:VCALENDAR