BEGIN:VCALENDAR
VERSION:2.0
PRODID:-//New Jersey Alliance for Clinical and Translational Science - ECPv6.15.14//NONSGML v1.0//EN
CALSCALE:GREGORIAN
METHOD:PUBLISH
X-WR-CALNAME:New Jersey Alliance for Clinical and Translational Science
X-ORIGINAL-URL:https://clinicaltrials.rbhs.rutgers.edu
X-WR-CALDESC:Events for New Jersey Alliance for Clinical and Translational Science
REFRESH-INTERVAL;VALUE=DURATION:PT1H
X-Robots-Tag:noindex
X-PUBLISHED-TTL:PT1H
BEGIN:VTIMEZONE
TZID:UTC
BEGIN:STANDARD
TZOFFSETFROM:+0000
TZOFFSETTO:+0000
TZNAME:UTC
DTSTART:20190101T000000
END:STANDARD
END:VTIMEZONE
BEGIN:VEVENT
DTSTART;TZID=UTC:20200418T080000
DTEND;TZID=UTC:20200418T141500
DTSTAMP:20260425T122637
CREATED:20191217T215353Z
LAST-MODIFIED:20200407T192004Z
UID:11159-1587196800-1587219300@clinicaltrials.rbhs.rutgers.edu
SUMMARY:Cancelled-School of Nursing IV Therapy Training Course
DESCRIPTION:School of Nursing IV Therapy Training Course-This course presents all the core skills needed for the healthcare practitioner to become familiar with intravenous therapy. Rutgers University\, School of Nursing\, Stanley S. Bergen\, Jr. Building\, Newark. To register.
URL:https://clinicaltrials.rbhs.rutgers.edu/event/iv-therapy-training-course-5/
LOCATION:Stanley S. Bergen Jr. Building\, 65 Bergen Street\, Newark\, NJ\, United States
END:VEVENT
BEGIN:VEVENT
DTSTART;TZID=UTC:20200418T080000
DTEND;TZID=UTC:20200418T170000
DTSTAMP:20260425T122637
CREATED:20200203T210147Z
LAST-MODIFIED:20200407T191936Z
UID:11982-1587196800-1587229200@clinicaltrials.rbhs.rutgers.edu
SUMMARY:Cancelled-School of Nursing Continuing Education
DESCRIPTION:School of Nursing Continuing Education-Basic Health Assessment Course is a three-day intensive course (4/18\, 4/25/ and 5/2) designed to enhance the health/physical assessment skills of nurses who function in hospitals\, long-term care facilities\, schools\, community health\, and industrial settings. Stanley S. Bergen\, Jr. Building\, 65 Bergen Street\, Newark. To register.
URL:https://clinicaltrials.rbhs.rutgers.edu/event/school-of-nursing-continuing-education-7/
LOCATION:Stanley S. Bergen Jr. Building\, 65 Bergen Street\, Newark\, NJ\, United States
END:VEVENT
END:VCALENDAR