BEGIN:VCALENDAR
VERSION:2.0
PRODID:-//New Jersey Alliance for Clinical and Translational Science - ECPv6.15.14//NONSGML v1.0//EN
CALSCALE:GREGORIAN
METHOD:PUBLISH
X-WR-CALNAME:New Jersey Alliance for Clinical and Translational Science
X-ORIGINAL-URL:https://clinicaltrials.rbhs.rutgers.edu
X-WR-CALDESC:Events for New Jersey Alliance for Clinical and Translational Science
REFRESH-INTERVAL;VALUE=DURATION:PT1H
X-Robots-Tag:noindex
X-PUBLISHED-TTL:PT1H
BEGIN:VTIMEZONE
TZID:UTC
BEGIN:STANDARD
TZOFFSETFROM:+0000
TZOFFSETTO:+0000
TZNAME:UTC
DTSTART:20190101T000000
END:STANDARD
END:VTIMEZONE
BEGIN:VEVENT
DTSTART;TZID=UTC:20200224T130000
DTEND;TZID=UTC:20200224T140000
DTSTAMP:20260422T015940
CREATED:20200218T185043Z
LAST-MODIFIED:20200218T185043Z
UID:12201-1582549200-1582552800@clinicaltrials.rbhs.rutgers.edu
SUMMARY:Child Health Institute of New Jersey Science Seminar
DESCRIPTION:Child Health Institute of New Jersey Science Seminar-Follicular Helper CD4 T Cell Cytokines Shape the B Cell Responses in Autoimmunity and Viral Infections\, Jason Weinstein\, Rutgers. Child Health Institute of New Jersey Room 3209\, 89 French Street\, New Brunswick.
URL:https://clinicaltrials.rbhs.rutgers.edu/event/child-health-institute-of-new-jersey-science-seminar-3/
LOCATION:Child Health Institute of NJ\, Room 3101\, 89 French Street\, New Brunswick\, NJ\, 08901\, United States
END:VEVENT
BEGIN:VEVENT
DTSTART;TZID=UTC:20200224T170000
DTEND;TZID=UTC:20200224T200000
DTSTAMP:20260422T015940
CREATED:20200203T202831Z
LAST-MODIFIED:20200203T202831Z
UID:11946-1582563600-1582574400@clinicaltrials.rbhs.rutgers.edu
SUMMARY:Biomedical Engineering Cell-Gene Therapy Seminar Series
DESCRIPTION:Biomedical Engineering Cell-Gene Therapy Seminar Series– Stem Cells in Therapy and Human Disease Modeling\, Jen Moore\, Rutgers and Machine learning and synthetic approaches to cell therapies\, Mark Tomishima\, BlueRock. Biomedical Engineering\, Auditorium\, 599 Taylor Road\, Piscataway.
URL:https://clinicaltrials.rbhs.rutgers.edu/event/biomedical-engineering-cell-gene-therapy-seminar-series-4/
LOCATION:Biomedical Engineering\, 599 Taylor Road\, Piscataway\, NJ\, 08854\, United States
END:VEVENT
END:VCALENDAR