BEGIN:VCALENDAR
VERSION:2.0
PRODID:-//New Jersey Alliance for Clinical and Translational Science - ECPv6.15.14//NONSGML v1.0//EN
CALSCALE:GREGORIAN
METHOD:PUBLISH
X-WR-CALNAME:New Jersey Alliance for Clinical and Translational Science
X-ORIGINAL-URL:https://clinicaltrials.rbhs.rutgers.edu
X-WR-CALDESC:Events for New Jersey Alliance for Clinical and Translational Science
REFRESH-INTERVAL;VALUE=DURATION:PT1H
X-Robots-Tag:noindex
X-PUBLISHED-TTL:PT1H
BEGIN:VTIMEZONE
TZID:UTC
BEGIN:STANDARD
TZOFFSETFROM:+0000
TZOFFSETTO:+0000
TZNAME:UTC
DTSTART:20190101T000000
END:STANDARD
END:VTIMEZONE
BEGIN:VEVENT
DTSTART;TZID=UTC:20200210T120000
DTEND;TZID=UTC:20200210T130000
DTSTAMP:20260425T170458
CREATED:20200127T221506Z
LAST-MODIFIED:20200127T221506Z
UID:11742-1581336000-1581339600@clinicaltrials.rbhs.rutgers.edu
SUMMARY:CABM/Basic Sciences Faculty Candidate Seminar
DESCRIPTION:CABM/Basic Sciences Faculty Candidate Seminar-Selective mRNA Translation in the Cellular Stress Response\, Deepika Vasudevan\, NYU Langone Medical Center. CABM Room 010\, 679 Hoes Lane West\, Piscataway.
URL:https://clinicaltrials.rbhs.rutgers.edu/event/cabm-basic-sciences-faculty-candidate-seminar-2/
LOCATION:CABM\, Seminar Room 010\, 679 Hoes Lane West\, Piscataway\, NJ\, 08854\, United States
END:VEVENT
BEGIN:VEVENT
DTSTART;TZID=UTC:20200210T134500
DTEND;TZID=UTC:20200210T144500
DTSTAMP:20260425T170458
CREATED:20200128T200046Z
LAST-MODIFIED:20200128T200046Z
UID:11787-1581342300-1581345900@clinicaltrials.rbhs.rutgers.edu
SUMMARY:Biomedical Engineering Seminar
DESCRIPTION:Biomedical Engineering Seminar-Unique Challenges for Head and Neck Reconstructive Surgeons: Opportunities for Innovation\, Boris Paskhover\, Rutgers New Jersey Medical School. Biomedical Engineering Building\, Room 102\, 599 Taylor Road\, Piscataway.
URL:https://clinicaltrials.rbhs.rutgers.edu/event/biomedical-engineering-seminar/
LOCATION:Biomedical Engineering\, 599 Taylor Road\, Piscataway\, NJ\, 08854\, United States
END:VEVENT
BEGIN:VEVENT
DTSTART;TZID=UTC:20200210T170000
DTEND;TZID=UTC:20200210T180000
DTSTAMP:20260425T170458
CREATED:20200212T224529Z
LAST-MODIFIED:20200212T224529Z
UID:12132-1581354000-1581357600@clinicaltrials.rbhs.rutgers.edu
SUMMARY:Rutgers School of Public Health Signature Seminar
DESCRIPTION:2/10/20 5:00 pm-6:00 pm: Rutgers School of Public Health Signature Seminar-21PHirst Signature Seminar: Bottle of Lies\, The Hidden World Behind America’s Low-Cost Drugs\, Katherine Eban. Rutgers School of Public Health\, 683 Hoes Lane West\, Piscataway.
URL:https://clinicaltrials.rbhs.rutgers.edu/event/rutgers-school-of-public-health-signature-seminar/
LOCATION:Rutgers School of Public Health\, 683 Hoes Lane West\, Piscataway\, NJ\, 08854\, United States
END:VEVENT
BEGIN:VEVENT
DTSTART;TZID=UTC:20200210T170000
DTEND;TZID=UTC:20200210T200000
DTSTAMP:20260425T170458
CREATED:20200203T202603Z
LAST-MODIFIED:20200203T202603Z
UID:11942-1581354000-1581364800@clinicaltrials.rbhs.rutgers.edu
SUMMARY:Biomedical Engineering Cell-Gene Therapy Seminar Series
DESCRIPTION:Biomedical Engineering Cell-Gene Therapy Seminar Series– CAR T cell biology\, Andrew Fesnak\, University of Pennsylvania and CAR-T manufacturing\, Tom Brieva\, Celgene. Biomedical Engineering\, Auditorium\, 599 Taylor Road\, Piscataway.
URL:https://clinicaltrials.rbhs.rutgers.edu/event/biomedical-engineering-cell-gene-therapy-seminar-series-2/
LOCATION:Biomedical Engineering\, 599 Taylor Road\, Piscataway\, NJ\, 08854\, United States
END:VEVENT
END:VCALENDAR