BEGIN:VCALENDAR
VERSION:2.0
PRODID:-//New Jersey Alliance for Clinical and Translational Science - ECPv6.15.14//NONSGML v1.0//EN
CALSCALE:GREGORIAN
METHOD:PUBLISH
X-WR-CALNAME:New Jersey Alliance for Clinical and Translational Science
X-ORIGINAL-URL:https://clinicaltrials.rbhs.rutgers.edu
X-WR-CALDESC:Events for New Jersey Alliance for Clinical and Translational Science
REFRESH-INTERVAL;VALUE=DURATION:PT1H
X-Robots-Tag:noindex
X-PUBLISHED-TTL:PT1H
BEGIN:VTIMEZONE
TZID:UTC
BEGIN:STANDARD
TZOFFSETFROM:+0000
TZOFFSETTO:+0000
TZNAME:UTC
DTSTART:20190101T000000
END:STANDARD
END:VTIMEZONE
BEGIN:VEVENT
DTSTART;TZID=UTC:20200121T120000
DTEND;TZID=UTC:20200121T133000
DTSTAMP:20260421T233943
CREATED:20190924T195058Z
LAST-MODIFIED:20190924T195058Z
UID:9854-1579608000-1579613400@clinicaltrials.rbhs.rutgers.edu
SUMMARY:K-Award Grant Writing Seminar
DESCRIPTION:K-Award Grant Writing Seminar: Getting the Approach Section Right-Options for structuring Approach sections.  Institute for Health\, Health Care Policy and Aging Research\, 120 Paterson St\, New Brunswick.
URL:https://clinicaltrials.rbhs.rutgers.edu/event/k-award-grant-writing-seminar-6/
LOCATION:Institute for Health\, Health Care Policy and Aging Research\, 1st floor conference room\, 112 Paterson Street\, New Brunswick\, 08901\, United States
END:VEVENT
BEGIN:VEVENT
DTSTART;TZID=UTC:20200121T150000
DTEND;TZID=UTC:20200121T160000
DTSTAMP:20260421T233943
CREATED:20200107T193153Z
LAST-MODIFIED:20200107T193153Z
UID:11413-1579618800-1579622400@clinicaltrials.rbhs.rutgers.edu
SUMMARY:CINJ Clinical Investigations & Precision Therapeutics Research Program
DESCRIPTION:CINJ Clinical Investigations & Precision Therapeutics Research Program-Preclinical evaluation of inhibitors to PD-L1 and gltamatergic signaling\, Suzie Chen and Discovery of Small Molecule Inhibitors of PD-1/PD-L1 and Keap1/Nrf2 Protein-Protein Interactions\, Longqin (Long) Hu. Rutgers Cancer Institute of New Jersey\, Auditorium B\, 195 Little Albany Street\, New Brunswick.
URL:https://clinicaltrials.rbhs.rutgers.edu/event/cinj-clinical-investigations-precision-therapeutics-research-program/
LOCATION:Rutgers Cancer Institute\, Auditorium B\, 1st Floor\, 195 Little Albany Street\, New Brunswick\, NJ\, 08901\, United States
END:VEVENT
END:VCALENDAR