BEGIN:VCALENDAR
VERSION:2.0
PRODID:-//New Jersey Alliance for Clinical and Translational Science - ECPv6.15.14//NONSGML v1.0//EN
CALSCALE:GREGORIAN
METHOD:PUBLISH
X-WR-CALNAME:New Jersey Alliance for Clinical and Translational Science
X-ORIGINAL-URL:https://clinicaltrials.rbhs.rutgers.edu
X-WR-CALDESC:Events for New Jersey Alliance for Clinical and Translational Science
REFRESH-INTERVAL;VALUE=DURATION:PT1H
X-Robots-Tag:noindex
X-PUBLISHED-TTL:PT1H
BEGIN:VTIMEZONE
TZID:UTC
BEGIN:STANDARD
TZOFFSETFROM:+0000
TZOFFSETTO:+0000
TZNAME:UTC
DTSTART:20180101T000000
END:STANDARD
END:VTIMEZONE
BEGIN:VEVENT
DTSTART;TZID=UTC:20191218T080000
DTEND;TZID=UTC:20191218T090000
DTSTAMP:20260423T200350
CREATED:20191204T223242Z
LAST-MODIFIED:20191204T223242Z
UID:11015-1576656000-1576659600@clinicaltrials.rbhs.rutgers.edu
SUMMARY:Medical Grand Rounds
DESCRIPTION:Medical Grand Rounds– LGBTQ/Transgender Health\, OP Hamnvik\, Harvard. Clinical Academic Building\, 125 Paterson Street\, Room 1302 Conference Center\, New Brunswick
URL:https://clinicaltrials.rbhs.rutgers.edu/event/medical-grand-rounds-5/
LOCATION:Clinical Academic Building\, Conference Room 1302\, 125 Paterson Street\, New Brunswick\, NJ\, 08901\, United States
END:VEVENT
BEGIN:VEVENT
DTSTART;TZID=UTC:20191218T120000
DTEND;TZID=UTC:20191218T130000
DTSTAMP:20260423T200350
CREATED:20191028T214958Z
LAST-MODIFIED:20191028T214958Z
UID:10639-1576670400-1576674000@clinicaltrials.rbhs.rutgers.edu
SUMMARY:Institute for Quantitative Biomedicine Seminar
DESCRIPTION:Seminar-Structure-Informed Studies of Bacterial Responses to DNA Damage\, Alexandra Deaconescu\, Brown University. Proteomics Room 120\, Institute for Quantitative Biomedicine at Rutgers\, 174 Frelinghuysen Road\, Piscataway
URL:https://clinicaltrials.rbhs.rutgers.edu/event/institute-for-quantitative-biomedicine-seminar-2/
LOCATION:Institute for Quantitative Biomedicine at Rutgers\, Proteomics Room 120\, 174 Frelinghuysen Road\, Piscataway\, NJ\, 08854\, United States
END:VEVENT
BEGIN:VEVENT
DTSTART;TZID=UTC:20191218T123000
DTEND;TZID=UTC:20191218T133000
DTSTAMP:20260423T200350
CREATED:20191107T201552Z
LAST-MODIFIED:20191107T201552Z
UID:10776-1576672200-1576675800@clinicaltrials.rbhs.rutgers.edu
SUMMARY:Neurology Grand Rounds
DESCRIPTION:Neurology Grand Rounds-Emad Nourollah-Zadeh\, RWJMS. Clinical Academic Building\, Room 1302\, 125 Paterson Street\, New Brunswick
URL:https://clinicaltrials.rbhs.rutgers.edu/event/neurology-grand-rounds-6/
LOCATION:Clinical Academic Building\, Conference Room 1302\, 125 Paterson Street\, New Brunswick\, NJ\, 08901\, United States
END:VEVENT
END:VCALENDAR