BEGIN:VCALENDAR
VERSION:2.0
PRODID:-//New Jersey Alliance for Clinical and Translational Science - ECPv6.15.14//NONSGML v1.0//EN
CALSCALE:GREGORIAN
METHOD:PUBLISH
X-WR-CALNAME:New Jersey Alliance for Clinical and Translational Science
X-ORIGINAL-URL:https://clinicaltrials.rbhs.rutgers.edu
X-WR-CALDESC:Events for New Jersey Alliance for Clinical and Translational Science
REFRESH-INTERVAL;VALUE=DURATION:PT1H
X-Robots-Tag:noindex
X-PUBLISHED-TTL:PT1H
BEGIN:VTIMEZONE
TZID:UTC
BEGIN:STANDARD
TZOFFSETFROM:+0000
TZOFFSETTO:+0000
TZNAME:UTC
DTSTART:20180101T000000
END:STANDARD
END:VTIMEZONE
BEGIN:VEVENT
DTSTART;TZID=UTC:20191204T080000
DTEND;TZID=UTC:20191204T090000
DTSTAMP:20260420T225856
CREATED:20191029T215117Z
LAST-MODIFIED:20191029T215117Z
UID:10690-1575446400-1575450000@clinicaltrials.rbhs.rutgers.edu
SUMMARY:Medical Grand Rounds
DESCRIPTION:Medical Grand Rounds-Pain Management in Rheumatic Disease\,Lee Simon. Clinical Academic Building\, 125 Paterson Street\, Room 1302\, Conference Center (Behind Reception) New Brunswick
URL:https://clinicaltrials.rbhs.rutgers.edu/event/medical-grand-rounds-4/
LOCATION:Clinical Academic Building\, Conference Room 1302\, 125 Paterson Street\, New Brunswick\, NJ\, 08901\, United States
END:VEVENT
BEGIN:VEVENT
DTSTART;TZID=UTC:20191204T120000
DTEND;TZID=UTC:20191204T130000
DTSTAMP:20260420T225856
CREATED:20191125T224133Z
LAST-MODIFIED:20191125T224133Z
UID:10920-1575460800-1575464400@clinicaltrials.rbhs.rutgers.edu
SUMMARY:Molecular Biology Butler Seminar Series
DESCRIPTION:Molecular Biology Butler Seminar Series-The Control of Protein Homeostasis\, Eduardo Groisman\, Yale. Princeton University\, Thomas Laboratory 003\, Department of Molecular Biology\, 119 Lewis Thomas Laboratory\, Washington Road\, Princeton.
URL:https://clinicaltrials.rbhs.rutgers.edu/event/molecular-biology-butler-seminar-series/
LOCATION:Princeton University\, Thomas Laboratory\, 119 Lewis Thomas Laboratory\, Washington Road\, Princeton\, NJ\, 08544-1014\, United States
END:VEVENT
BEGIN:VEVENT
DTSTART;TZID=UTC:20191204T123000
DTEND;TZID=UTC:20191204T130000
DTSTAMP:20260420T225856
CREATED:20191213T001830Z
LAST-MODIFIED:20191213T001901Z
UID:11123-1575462600-1575464400@clinicaltrials.rbhs.rutgers.edu
SUMMARY:Special Guest Speaker
DESCRIPTION:Newborns and Opioid Withdrawal: An Empowering Approach to Helping Moms and Treating Infants Born with NAS \nGuest Speaker: Matthew Grossman\, MD \nWhen: Wednesday\, December 4th \nTime: 12:00pm-1:00pm \nRecipient of the Quality and Safety Award at the Yale School of Medicine \nPlease Join Us!
URL:https://clinicaltrials.rbhs.rutgers.edu/event/special-guest-speaker/
LOCATION:RWJMS Research Tower\, V10\, 675 Hoes Lane West\, Piscataway\, NJ\, United States
END:VEVENT
BEGIN:VEVENT
DTSTART;TZID=UTC:20191204T123000
DTEND;TZID=UTC:20191204T133000
DTSTAMP:20260420T225856
CREATED:20191107T200752Z
LAST-MODIFIED:20191107T200752Z
UID:10771-1575462600-1575466200@clinicaltrials.rbhs.rutgers.edu
SUMMARY:Neurology Grand Rounds
DESCRIPTION:Neurology Grand Rounds-Detlve Boison\, RWJMS and NJMS. Clinical Academic Building\, Room 3403\, 125 Paterson Street\, New Brunswick
URL:https://clinicaltrials.rbhs.rutgers.edu/event/neurology-grand-rounds-4/
LOCATION:Clinical Academic Building\, Room 1302\, 125 Paterson Street\, New Brunswick\, NJ\, 08901\, United States
END:VEVENT
BEGIN:VEVENT
DTSTART;TZID=UTC:20191204T160000
DTEND;TZID=UTC:20191204T170000
DTSTAMP:20260420T225856
CREATED:20191204T224750Z
LAST-MODIFIED:20191204T224750Z
UID:11021-1575475200-1575478800@clinicaltrials.rbhs.rutgers.edu
SUMMARY:CINJ Grand Round Seminar Lecture Series
DESCRIPTION:CINJ Grand Round Seminar Lecture Series-Metabolic Regulation of Ferroptosis\, Nutrient Dependency and Tumor Suppression\, Boyi Gan\, University of Texas. Cancer Institute of New Jersey\, Auditorium A\, 195 Little Albany Street\, New Brunswick.
URL:https://clinicaltrials.rbhs.rutgers.edu/event/cinj-grand-round-seminar-lecture-series-8/
LOCATION:Rutgers Cancer Institute of New Jersey\, 1st Floor\, Auditorium A\, 195 Little Albany Street\, New Brunswick\, NJ\, 08901\, United States
END:VEVENT
BEGIN:VEVENT
DTSTART;TZID=UTC:20191204T173000
DTEND;TZID=UTC:20191204T183000
DTSTAMP:20260420T225856
CREATED:20191203T230332Z
LAST-MODIFIED:20191203T230332Z
UID:10988-1575480600-1575484200@clinicaltrials.rbhs.rutgers.edu
SUMMARY:Annual Global Health Fair
DESCRIPTION:Annual Global Health Fair-Global Learning through Global Health: Advancing Common Goals\, Together\, Joanna Regulska\, University of California\, Davis. Arline and Henry Schwartzman Courtyard\, Robert Wood Johnson University Hospital\, 1 Robert Wood Johnson Place\, New Brunswick.
URL:https://clinicaltrials.rbhs.rutgers.edu/event/annual-global-health-fair/
LOCATION:Arline and Henry Schwartzman Courtyard\, Robert Wood Johnson University Hospital\, 1 Robert Wood Johnson Place\, New Brunswick\, NJ\, 08901
END:VEVENT
END:VCALENDAR