BEGIN:VCALENDAR
VERSION:2.0
PRODID:-//New Jersey Alliance for Clinical and Translational Science - ECPv6.15.14//NONSGML v1.0//EN
CALSCALE:GREGORIAN
METHOD:PUBLISH
X-WR-CALNAME:New Jersey Alliance for Clinical and Translational Science
X-ORIGINAL-URL:https://clinicaltrials.rbhs.rutgers.edu
X-WR-CALDESC:Events for New Jersey Alliance for Clinical and Translational Science
REFRESH-INTERVAL;VALUE=DURATION:PT1H
X-Robots-Tag:noindex
X-PUBLISHED-TTL:PT1H
BEGIN:VTIMEZONE
TZID:UTC
BEGIN:STANDARD
TZOFFSETFROM:+0000
TZOFFSETTO:+0000
TZNAME:UTC
DTSTART:20180101T000000
END:STANDARD
END:VTIMEZONE
BEGIN:VEVENT
DTSTART;TZID=UTC:20191120T080000
DTEND;TZID=UTC:20191120T090000
DTSTAMP:20260421T032220
CREATED:20191029T214748Z
LAST-MODIFIED:20191029T214748Z
UID:10688-1574236800-1574240400@clinicaltrials.rbhs.rutgers.edu
SUMMARY:Medical Grand Rounds
DESCRIPTION:Medical Grand Rounds-Latino Health Outcomes\, Lenny Lopez\, UCSF\, with a Post talk informational meeting with residents/hospitalists. Clinical Academic Building\, 125 Paterson Street\, Room 1302\, Conference Center (Behind Reception) New Brunswick
URL:https://clinicaltrials.rbhs.rutgers.edu/event/medical-grand-rounds-3/
LOCATION:Clinical Academic Building\, Conference Room 1302\, 125 Paterson Street\, New Brunswick\, NJ\, 08901\, United States
END:VEVENT
BEGIN:VEVENT
DTSTART;TZID=UTC:20191120T110000
DTEND;TZID=UTC:20191120T130000
DTSTAMP:20260421T032220
CREATED:20191112T222130Z
LAST-MODIFIED:20191112T222130Z
UID:10815-1574247600-1574254800@clinicaltrials.rbhs.rutgers.edu
SUMMARY:School of Public Health Open House
DESCRIPTION:School of Public Health Open House-Take your passion and enthusiasm for protecting and improving the health of people to the next level. Rutgers School of Public Health\, 683 Hoes Lane West\, Piscataway. Please RSVP
URL:https://clinicaltrials.rbhs.rutgers.edu/event/school-of-public-health-open-house/
LOCATION:Rutgers School of Public Health\, 683 Hoes Lane West\, Piscataway\, NJ\, 08854\, United States
END:VEVENT
BEGIN:VEVENT
DTSTART;TZID=UTC:20191120T120000
DTEND;TZID=UTC:20191120T130000
DTSTAMP:20260421T032220
CREATED:20191021T215326Z
LAST-MODIFIED:20191023T214438Z
UID:10479-1574251200-1574254800@clinicaltrials.rbhs.rutgers.edu
SUMMARY:Institute for Quantitative Biomedicine Seminar
DESCRIPTION:Seminar-Time-resolved Femtosecond Crystallography Studies of Biomolecules with X-ray Free Electron Lasers\, Petra Fromme\, Arizona State\nUniversity. Proteomics Room 120\, Institute for Quantitative Biomedicine at Rutgers\, 174 Frelinghuysen Road\, Piscataway
URL:https://clinicaltrials.rbhs.rutgers.edu/event/time-resolved-femtosecond-crystallography-studies-of-biomolecules-with-x-ray-free-electron-lasers/
LOCATION:Institute for Quantitative Biomedicine at Rutgers\, Proteomics Room 120\, 174 Frelinghuysen Road\, Piscataway\, NJ\, 08854\, United States
END:VEVENT
BEGIN:VEVENT
DTSTART;TZID=UTC:20191120T123000
DTEND;TZID=UTC:20191120T133000
DTSTAMP:20260421T032220
CREATED:20191031T205032Z
LAST-MODIFIED:20191031T214004Z
UID:10739-1574253000-1574256600@clinicaltrials.rbhs.rutgers.edu
SUMMARY:Neurology Grand Rounds
DESCRIPTION:Neurology Grand Rounds-Leroy Sharer\, RWJMS. Clinical Academic Building\, Room 1302\, 125 Paterson Street\, New Brunswick
URL:https://clinicaltrials.rbhs.rutgers.edu/event/neurology-grand-rounds-2/
LOCATION:Clinical Academic Building\, Conference Room 1302\, 125 Paterson Street\, New Brunswick\, NJ\, 08901\, United States
END:VEVENT
END:VCALENDAR