BEGIN:VCALENDAR
VERSION:2.0
PRODID:-//New Jersey Alliance for Clinical and Translational Science - ECPv6.15.14//NONSGML v1.0//EN
CALSCALE:GREGORIAN
METHOD:PUBLISH
X-WR-CALNAME:New Jersey Alliance for Clinical and Translational Science
X-ORIGINAL-URL:https://clinicaltrials.rbhs.rutgers.edu
X-WR-CALDESC:Events for New Jersey Alliance for Clinical and Translational Science
REFRESH-INTERVAL;VALUE=DURATION:PT1H
X-Robots-Tag:noindex
X-PUBLISHED-TTL:PT1H
BEGIN:VTIMEZONE
TZID:UTC
BEGIN:STANDARD
TZOFFSETFROM:+0000
TZOFFSETTO:+0000
TZNAME:UTC
DTSTART:20180101T000000
END:STANDARD
END:VTIMEZONE
BEGIN:VEVENT
DTSTART;TZID=UTC:20191114T080000
DTEND;TZID=UTC:20191114T090000
DTSTAMP:20260423T150631
CREATED:20191031T191059Z
LAST-MODIFIED:20191031T191059Z
UID:10723-1573718400-1573722000@clinicaltrials.rbhs.rutgers.edu
SUMMARY:Pediatric Grand Rounds
DESCRIPTION:Pediatric Grand Rounds-Primary Immunodeficiencies\, Jen Heimall. Clinical Academic Building\, Room 1302\, 125 Paterson Street\, New Brunswick.
URL:https://clinicaltrials.rbhs.rutgers.edu/event/pediatric-grand-rounds-2/
LOCATION:Clinical Academic Building\, Conference Room 1302\, 125 Paterson Street\, New Brunswick\, NJ\, 08901\, United States
END:VEVENT
BEGIN:VEVENT
DTSTART;TZID=UTC:20191114T150000
DTEND;TZID=UTC:20191114T160000
DTSTAMP:20260423T150631
CREATED:20191107T192132Z
LAST-MODIFIED:20191107T214156Z
UID:10762-1573743600-1573747200@clinicaltrials.rbhs.rutgers.edu
SUMMARY:CINJ Special Seminar
DESCRIPTION:Rutgers Cancer Institute of New Jersey \nSpecial Seminar Lecture Series \n\n\n\n\nPresents   \n“Interplay Between Replication Fork Protection and the BRCA Pathway \nin Genome Stability and Chemotherapy”  \nSpeaker: \n\n\nGeorge-Lucian Moldovan\, PhD \nAssociate Professor\, Department of Biochemistry and Molecular Biology \nPennsylvania State University College of Medicine \nHost: Subhajyoti De\, PhD
URL:https://clinicaltrials.rbhs.rutgers.edu/event/interplay-between-replication-fork-protection-and-the-brca-pathway-in-genome-stability-and-chemotherapy/
LOCATION:Rutgers Cancer Institute of New Jersey\, 1st Floor\, Auditorium A\, 195 Little Albany Street\, New Brunswick\, NJ\, 08901\, United States
ORGANIZER;CN="Kristi Parker":MAILTO:parkerkn@cinj.rutgers.edu
END:VEVENT
BEGIN:VEVENT
DTSTART;TZID=UTC:20191114T173000
DTEND;TZID=UTC:20191114T193000
DTSTAMP:20260423T150631
CREATED:20191111T234742Z
LAST-MODIFIED:20191111T234822Z
UID:10807-1573752600-1573759800@clinicaltrials.rbhs.rutgers.edu
SUMMARY:Women’s Leadership Workshop
DESCRIPTION:Women’s Leadership Workshop: Negotiations\, Rosemary Gellene Room\, Medical School Building\,185 S. Orange Avenue\, Newark. To register. \nWomen’s Leadership Workshop Flyer
URL:https://clinicaltrials.rbhs.rutgers.edu/event/womens-leadership-workshop/
END:VEVENT
END:VCALENDAR