BEGIN:VCALENDAR
VERSION:2.0
PRODID:-//New Jersey Alliance for Clinical and Translational Science - ECPv6.15.14//NONSGML v1.0//EN
CALSCALE:GREGORIAN
METHOD:PUBLISH
X-WR-CALNAME:New Jersey Alliance for Clinical and Translational Science
X-ORIGINAL-URL:https://clinicaltrials.rbhs.rutgers.edu
X-WR-CALDESC:Events for New Jersey Alliance for Clinical and Translational Science
REFRESH-INTERVAL;VALUE=DURATION:PT1H
X-Robots-Tag:noindex
X-PUBLISHED-TTL:PT1H
BEGIN:VTIMEZONE
TZID:UTC
BEGIN:STANDARD
TZOFFSETFROM:+0000
TZOFFSETTO:+0000
TZNAME:UTC
DTSTART:20180101T000000
END:STANDARD
END:VTIMEZONE
BEGIN:VEVENT
DTSTART;TZID=UTC:20191112T120000
DTEND;TZID=UTC:20191112T170000
DTSTAMP:20260423T200349
CREATED:20191030T215242Z
LAST-MODIFIED:20191030T215252Z
UID:10707-1573560000-1573578000@clinicaltrials.rbhs.rutgers.edu
SUMMARY:Cancer Pharmacology Research Program
DESCRIPTION:Cancer Pharmacology Research Program-Chemical Approaches to Illuminate the RNA Epitranscriptome\, Ralph Kleiner\, Princeton University. Rutgers Cancer Institute of New Jersey\, Auditorium B\, First Floor\, 195 Little Albany Street\, New Brunswick. Please RSVP by November 6th\, 2019 to sradford@rutgers.edu. State if you require WebEx information.
URL:https://clinicaltrials.rbhs.rutgers.edu/event/cancer-pharmacology-research-program/
LOCATION:Rutgers Cancer Institute\, Auditorium B\, 1st Floor\, 195 Little Albany Street\, New Brunswick\, NJ\, 08901\, United States
END:VEVENT
END:VCALENDAR