BEGIN:VCALENDAR
VERSION:2.0
PRODID:-//New Jersey Alliance for Clinical and Translational Science - ECPv6.15.14//NONSGML v1.0//EN
CALSCALE:GREGORIAN
METHOD:PUBLISH
X-WR-CALNAME:New Jersey Alliance for Clinical and Translational Science
X-ORIGINAL-URL:https://clinicaltrials.rbhs.rutgers.edu
X-WR-CALDESC:Events for New Jersey Alliance for Clinical and Translational Science
REFRESH-INTERVAL;VALUE=DURATION:PT1H
X-Robots-Tag:noindex
X-PUBLISHED-TTL:PT1H
BEGIN:VTIMEZONE
TZID:UTC
BEGIN:STANDARD
TZOFFSETFROM:+0000
TZOFFSETTO:+0000
TZNAME:UTC
DTSTART:20180101T000000
END:STANDARD
END:VTIMEZONE
BEGIN:VEVENT
DTSTART;TZID=UTC:20191029T090000
DTEND;TZID=UTC:20191029T123000
DTSTAMP:20260420T085650
CREATED:20191010T205701Z
LAST-MODIFIED:20191010T205701Z
UID:10343-1572339600-1572352200@clinicaltrials.rbhs.rutgers.edu
SUMMARY:Alzheimer’s Foundation of America Educating America Tour: Concepts in Care Educational Conference
DESCRIPTION:Alzheimer’s Foundation of America Educating America Tour: Concepts in Care Educational Conference\, Busch Student Center\, 604 Bartholomew Road\, Piscataway.  To register.
URL:https://clinicaltrials.rbhs.rutgers.edu/event/alzheimers-foundation-of-america-educating-america-tour-concepts-in-care-educational-conference/
LOCATION:Busch Student Center\, 604 Bartholomew Road\, Piscataway\, NJ\, 08854\, United States
END:VEVENT
BEGIN:VEVENT
DTSTART;TZID=UTC:20191029T120000
DTEND;TZID=UTC:20191029T133000
DTSTAMP:20260420T085650
CREATED:20190924T192746Z
LAST-MODIFIED:20190924T192746Z
UID:9826-1572350400-1572355800@clinicaltrials.rbhs.rutgers.edu
SUMMARY:K-Award Grant Writing Seminar
DESCRIPTION:K-Award Grant Writing Seminar: Overview of Grant Development Process-Structure of an Application. Institute for Health\, Health Care Policy and Aging Research\, 120 Paterson St\, New Brunswick.
URL:https://clinicaltrials.rbhs.rutgers.edu/event/k-award-grant-writing-seminar/
LOCATION:Institute for Health\, Health Care Policy and Aging Research\, 1st floor conference room\, 112 Paterson Street\, New Brunswick\, 08901\, United States
END:VEVENT
END:VCALENDAR