BEGIN:VCALENDAR
VERSION:2.0
PRODID:-//New Jersey Alliance for Clinical and Translational Science - ECPv6.15.14//NONSGML v1.0//EN
CALSCALE:GREGORIAN
METHOD:PUBLISH
X-ORIGINAL-URL:https://clinicaltrials.rbhs.rutgers.edu
X-WR-CALDESC:Events for New Jersey Alliance for Clinical and Translational Science
REFRESH-INTERVAL;VALUE=DURATION:PT1H
X-Robots-Tag:noindex
X-PUBLISHED-TTL:PT1H
BEGIN:VTIMEZONE
TZID:UTC
BEGIN:STANDARD
TZOFFSETFROM:+0000
TZOFFSETTO:+0000
TZNAME:UTC
DTSTART:20180101T000000
END:STANDARD
END:VTIMEZONE
BEGIN:VEVENT
DTSTART;TZID=UTC:20191026T071500
DTEND;TZID=UTC:20191026T170000
DTSTAMP:20260424T020720
CREATED:20190924T192522Z
LAST-MODIFIED:20190924T192522Z
UID:9822-1572074100-1572109200@clinicaltrials.rbhs.rutgers.edu
SUMMARY:7th Annual Update on Liver Disease
DESCRIPTION:7th Annual Update on Liver Disease: A Multidisciplinary Approach\, Clubhouse at Galloping Hill Golf Course\, 3 Golf Drive\, Kenilworth. To register.
URL:https://clinicaltrials.rbhs.rutgers.edu/event/7th-annual-update-on-liver-disease/
LOCATION:Clubhouse at Galloping Hills Golf Course\, 3 Golf Drive\, Kenilworth\, NJ\, United States
END:VEVENT
END:VCALENDAR