BEGIN:VCALENDAR
VERSION:2.0
PRODID:-//New Jersey Alliance for Clinical and Translational Science - ECPv6.15.14//NONSGML v1.0//EN
CALSCALE:GREGORIAN
METHOD:PUBLISH
X-WR-CALNAME:New Jersey Alliance for Clinical and Translational Science
X-ORIGINAL-URL:https://clinicaltrials.rbhs.rutgers.edu
X-WR-CALDESC:Events for New Jersey Alliance for Clinical and Translational Science
REFRESH-INTERVAL;VALUE=DURATION:PT1H
X-Robots-Tag:noindex
X-PUBLISHED-TTL:PT1H
BEGIN:VTIMEZONE
TZID:UTC
BEGIN:STANDARD
TZOFFSETFROM:+0000
TZOFFSETTO:+0000
TZNAME:UTC
DTSTART:20180101T000000
END:STANDARD
END:VTIMEZONE
BEGIN:VEVENT
DTSTART;TZID=UTC:20191016T080000
DTEND;TZID=UTC:20191016T163000
DTSTAMP:20260420T181618
CREATED:20191019T003653Z
LAST-MODIFIED:20191019T003653Z
UID:10411-1571212800-1571243400@clinicaltrials.rbhs.rutgers.edu
SUMMARY:Inaugural NJ ACTS Retreat
DESCRIPTION:NJ ACTS Inaugural Retreat to be held Wednesday October 16\, at the Rutgers Center for Continuing Education from 8 am to 4:30 pm\, followed by a poster session. To register. \nNJ ACTS Retreat Agenda
URL:https://clinicaltrials.rbhs.rutgers.edu/event/inaugural-nj-acts-retreat/
END:VEVENT
BEGIN:VEVENT
DTSTART;TZID=UTC:20191016T130000
DTEND;TZID=UTC:20191016T160000
DTSTAMP:20260420T181618
CREATED:20191014T185409Z
LAST-MODIFIED:20191014T185409Z
UID:10384-1571230800-1571241600@clinicaltrials.rbhs.rutgers.edu
SUMMARY:Continuing Education for Healthcare Professionals
DESCRIPTION:Continuing Education for Healthcare Professionals-Part 1: Introduction to Traditional Chinese Medicine Course\, Stanley S. Bergen\, Jr. Building\, 65 Bergen Street\, Newark. To register.
URL:https://clinicaltrials.rbhs.rutgers.edu/event/continuing-education-for-healthcare-professionals/
LOCATION:Stanley S. Bergen Jr. Building\, 65 Bergen Street\, Newark\, NJ\, United States
END:VEVENT
END:VCALENDAR