BEGIN:VCALENDAR
VERSION:2.0
PRODID:-//New Jersey Alliance for Clinical and Translational Science - ECPv6.15.14//NONSGML v1.0//EN
CALSCALE:GREGORIAN
METHOD:PUBLISH
X-ORIGINAL-URL:https://clinicaltrials.rbhs.rutgers.edu
X-WR-CALDESC:Events for New Jersey Alliance for Clinical and Translational Science
REFRESH-INTERVAL;VALUE=DURATION:PT1H
X-Robots-Tag:noindex
X-PUBLISHED-TTL:PT1H
BEGIN:VTIMEZONE
TZID:UTC
BEGIN:STANDARD
TZOFFSETFROM:+0000
TZOFFSETTO:+0000
TZNAME:UTC
DTSTART:20180101T000000
END:STANDARD
END:VTIMEZONE
BEGIN:VEVENT
DTSTART;TZID=UTC:20190906T120000
DTEND;TZID=UTC:20190906T133000
DTSTAMP:20260424T033810
CREATED:20190924T201932Z
LAST-MODIFIED:20190924T201932Z
UID:9882-1567771200-1567776600@clinicaltrials.rbhs.rutgers.edu
SUMMARY:CINJ Trainee Seminar Series
DESCRIPTION:CINJ Trainee Seminar Series-Regulations of TIA-1 Positive Stress Granules by BCCIP\, Bochao Liu\, Rutgers Cancer Institute of New Jersey\, Auditorium B\, 1st Floor\, Rutgers Cancer Institute of New Jersey\, 195 Little Albany Street\, New Brunswick
URL:https://clinicaltrials.rbhs.rutgers.edu/event/cinj-trainee-seminar-series/
LOCATION:Rutgers Cancer Institute of New Jersey\, Auditorium B\, 1st Floor\, 195 Little Albany Street\, New Brunswick\, NJ\, 08901\, United States
END:VEVENT
END:VCALENDAR