BEGIN:VCALENDAR
VERSION:2.0
PRODID:-//New Jersey Alliance for Clinical and Translational Science - ECPv6.15.14//NONSGML v1.0//EN
CALSCALE:GREGORIAN
METHOD:PUBLISH
X-WR-CALNAME:New Jersey Alliance for Clinical and Translational Science
X-ORIGINAL-URL:https://clinicaltrials.rbhs.rutgers.edu
X-WR-CALDESC:Events for New Jersey Alliance for Clinical and Translational Science
REFRESH-INTERVAL;VALUE=DURATION:PT1H
X-Robots-Tag:noindex
X-PUBLISHED-TTL:PT1H
BEGIN:VTIMEZONE
TZID:UTC
BEGIN:STANDARD
TZOFFSETFROM:+0000
TZOFFSETTO:+0000
TZNAME:UTC
DTSTART:20180101T000000
END:STANDARD
END:VTIMEZONE
BEGIN:VEVENT
DTSTART;TZID=UTC:20190815T073000
DTEND;TZID=UTC:20190815T083000
DTSTAMP:20260423T183603
CREATED:20190924T203422Z
LAST-MODIFIED:20190924T203528Z
UID:9900-1565854200-1565857800@clinicaltrials.rbhs.rutgers.edu
SUMMARY:Pain Management ECHO Program Live Video-conference Session
DESCRIPTION:8/15/19 7:30 am: Pain Management ECHO Program live video-conference session-Measuring Opioid Risk. To register.
URL:https://clinicaltrials.rbhs.rutgers.edu/event/pain-management-echo-program-live-video-conference-session/
END:VEVENT
END:VCALENDAR