BEGIN:VCALENDAR
VERSION:2.0
PRODID:-//New Jersey Alliance for Clinical and Translational Science - ECPv6.15.14//NONSGML v1.0//EN
CALSCALE:GREGORIAN
METHOD:PUBLISH
X-WR-CALNAME:New Jersey Alliance for Clinical and Translational Science
X-ORIGINAL-URL:https://clinicaltrials.rbhs.rutgers.edu
X-WR-CALDESC:Events for New Jersey Alliance for Clinical and Translational Science
REFRESH-INTERVAL;VALUE=DURATION:PT1H
X-Robots-Tag:noindex
X-PUBLISHED-TTL:PT1H
BEGIN:VTIMEZONE
TZID:UTC
BEGIN:STANDARD
TZOFFSETFROM:+0000
TZOFFSETTO:+0000
TZNAME:UTC
DTSTART:20180101T000000
END:STANDARD
END:VTIMEZONE
BEGIN:VEVENT
DTSTART;VALUE=DATE:20190730
DTEND;VALUE=DATE:20190731
DTSTAMP:20260419T181718
CREATED:20190925T183414Z
LAST-MODIFIED:20190925T183414Z
UID:9919-1564444800-1564531199@clinicaltrials.rbhs.rutgers.edu
SUMMARY:New Jersey Alliance for Clinical and Translational Science (NJ ACTS) RFA
DESCRIPTION:New Jersey Alliance for Clinical and Translational Science (NJ ACTS) RFA: Partnership & Innovation Pilot Grant Program\, Application Deadline: Tuesday\, September 3rd\, 2019
URL:https://clinicaltrials.rbhs.rutgers.edu/event/new-jersey-alliance-for-clinical-and-translational-science-nj-acts-rfa-2/
END:VEVENT
BEGIN:VEVENT
DTSTART;TZID=UTC:20190730T121500
DTEND;TZID=UTC:20190730T133000
DTSTAMP:20260419T181718
CREATED:20190925T183841Z
LAST-MODIFIED:20190925T183841Z
UID:9925-1564488900-1564493400@clinicaltrials.rbhs.rutgers.edu
SUMMARY:Maternal Child Health-Prenatal ECHO Program live video-conference session
DESCRIPTION:Maternal Child Health-Prenatal ECHO Program live video-conference session-Harm Reduction Strategies for Substance Abuse during Pregnancy. To register.
URL:https://clinicaltrials.rbhs.rutgers.edu/event/maternal-child-health-prenatal-echo-program-live-video-conference-session/
END:VEVENT
END:VCALENDAR