BEGIN:VCALENDAR
VERSION:2.0
PRODID:-//New Jersey Alliance for Clinical and Translational Science - ECPv6.15.14//NONSGML v1.0//EN
CALSCALE:GREGORIAN
METHOD:PUBLISH
X-WR-CALNAME:New Jersey Alliance for Clinical and Translational Science
X-ORIGINAL-URL:https://clinicaltrials.rbhs.rutgers.edu
X-WR-CALDESC:Events for New Jersey Alliance for Clinical and Translational Science
REFRESH-INTERVAL;VALUE=DURATION:PT1H
X-Robots-Tag:noindex
X-PUBLISHED-TTL:PT1H
BEGIN:VTIMEZONE
TZID:UTC
BEGIN:STANDARD
TZOFFSETFROM:+0000
TZOFFSETTO:+0000
TZNAME:UTC
DTSTART:20180101T000000
END:STANDARD
END:VTIMEZONE
BEGIN:VEVENT
DTSTART;TZID=UTC:20190724T110000
DTEND;TZID=UTC:20190724T123000
DTSTAMP:20260419T235506
CREATED:20190925T184438Z
LAST-MODIFIED:20190925T184438Z
UID:9932-1563966000-1563971400@clinicaltrials.rbhs.rutgers.edu
SUMMARY:Department of Pediatrics Special Seminar
DESCRIPTION:Department of Pediatrics Special Seminar-Non-Adherence to Medical Recommendations: Decoding the Street light Effect\, Eyal Shemesh\, Icahn School of Medicine mount Sinai\,  Room 7319 Clinical Academic Building\, 125 Paterson Street\, New Brunswick
URL:https://clinicaltrials.rbhs.rutgers.edu/event/department-of-pediatrics-special-seminar/
END:VEVENT
END:VCALENDAR