BEGIN:VCALENDAR
VERSION:2.0
PRODID:-//New Jersey Alliance for Clinical and Translational Science - ECPv6.15.14//NONSGML v1.0//EN
CALSCALE:GREGORIAN
METHOD:PUBLISH
X-WR-CALNAME:New Jersey Alliance for Clinical and Translational Science
X-ORIGINAL-URL:https://clinicaltrials.rbhs.rutgers.edu
X-WR-CALDESC:Events for New Jersey Alliance for Clinical and Translational Science
REFRESH-INTERVAL;VALUE=DURATION:PT1H
X-Robots-Tag:noindex
X-PUBLISHED-TTL:PT1H
BEGIN:VTIMEZONE
TZID:UTC
BEGIN:STANDARD
TZOFFSETFROM:+0000
TZOFFSETTO:+0000
TZNAME:UTC
DTSTART:20180101T000000
END:STANDARD
END:VTIMEZONE
BEGIN:VEVENT
DTSTART;VALUE=DATE:20190720
DTEND;VALUE=DATE:20190721
DTSTAMP:20260419T225930
CREATED:20190925T184620Z
LAST-MODIFIED:20190925T184633Z
UID:9934-1563580800-1563667199@clinicaltrials.rbhs.rutgers.edu
SUMMARY:Continuing Education for Healthcare Professionals Training Course
DESCRIPTION:Continuing Education for Healthcare Professionals-IV Therapy Training Course\, Stanley S. Bergen\, Jr. Building\, 65 Bergen Street\, Newark. To register.
URL:https://clinicaltrials.rbhs.rutgers.edu/event/continuing-education-for-healthcare-professionals-training-course-7/
END:VEVENT
END:VCALENDAR