BEGIN:VCALENDAR
VERSION:2.0
PRODID:-//New Jersey Alliance for Clinical and Translational Science - ECPv6.15.14//NONSGML v1.0//EN
CALSCALE:GREGORIAN
METHOD:PUBLISH
X-WR-CALNAME:New Jersey Alliance for Clinical and Translational Science
X-ORIGINAL-URL:https://clinicaltrials.rbhs.rutgers.edu
X-WR-CALDESC:Events for New Jersey Alliance for Clinical and Translational Science
REFRESH-INTERVAL;VALUE=DURATION:PT1H
X-Robots-Tag:noindex
X-PUBLISHED-TTL:PT1H
BEGIN:VTIMEZONE
TZID:UTC
BEGIN:STANDARD
TZOFFSETFROM:+0000
TZOFFSETTO:+0000
TZNAME:UTC
DTSTART:20180101T000000
END:STANDARD
END:VTIMEZONE
BEGIN:VEVENT
DTSTART;TZID=UTC:20190626T120000
DTEND;TZID=UTC:20190626T133000
DTSTAMP:20260425T184120
CREATED:20190925T190403Z
LAST-MODIFIED:20190925T190403Z
UID:9954-1561550400-1561555800@clinicaltrials.rbhs.rutgers.edu
SUMMARY:Child Health Institute of New Jersey Special Seminar
DESCRIPTION:Child Health Institute of New Jersey Special Seminar-Cholangiocytes Under Stress-Mechanistic and Therapeutic Insights into Pediatric and Adult Biliary Disease\, Michael Pack\, Perelman School of Medicine\, University of Pennsylvania. Room 3209\, CHI Building\, 89 French Street\, New Brunswick
URL:https://clinicaltrials.rbhs.rutgers.edu/event/child-health-institute-of-new-jersey-special-seminar/
LOCATION:Child Health Institute of NJ\, Room 3101\, 89 French Street\, New Brunswick\, NJ\, 08901\, United States
END:VEVENT
BEGIN:VEVENT
DTSTART;TZID=UTC:20190626T160000
DTEND;TZID=UTC:20190626T170000
DTSTAMP:20260425T184120
CREATED:20190925T185848Z
LAST-MODIFIED:20190925T185848Z
UID:9952-1561564800-1561568400@clinicaltrials.rbhs.rutgers.edu
SUMMARY:CINJ Distinguished Lecture Series
DESCRIPTION:CINJ Distinguished Lecture Series-Tobacco Harm Reduction and its Role in Cancer\, Dorothy Hatsukami\, University of Minnesota\, Auditorium A\, 1st Floor\, Rutgers Cancer Institute of New Jersey\, 195 Little Albany Street\, New Brunswick
URL:https://clinicaltrials.rbhs.rutgers.edu/event/cinj-distinguished-lecture-series/
LOCATION:Rutgers Cancer Institute of New Jersey\, 1st Floor\, Auditorium A\, 195 Little Albany Street\, New Brunswick\, NJ\, 08901\, United States
END:VEVENT
END:VCALENDAR