BEGIN:VCALENDAR
VERSION:2.0
PRODID:-//New Jersey Alliance for Clinical and Translational Science - ECPv6.15.14//NONSGML v1.0//EN
CALSCALE:GREGORIAN
METHOD:PUBLISH
X-WR-CALNAME:New Jersey Alliance for Clinical and Translational Science
X-ORIGINAL-URL:https://clinicaltrials.rbhs.rutgers.edu
X-WR-CALDESC:Events for New Jersey Alliance for Clinical and Translational Science
REFRESH-INTERVAL;VALUE=DURATION:PT1H
X-Robots-Tag:noindex
X-PUBLISHED-TTL:PT1H
BEGIN:VTIMEZONE
TZID:UTC
BEGIN:STANDARD
TZOFFSETFROM:+0000
TZOFFSETTO:+0000
TZNAME:UTC
DTSTART:20180101T000000
END:STANDARD
END:VTIMEZONE
BEGIN:VEVENT
DTSTART;VALUE=DATE:20190610
DTEND;VALUE=DATE:20190611
DTSTAMP:20260420T054926
CREATED:20190925T191258Z
LAST-MODIFIED:20190925T191608Z
UID:9966-1560124800-1560211199@clinicaltrials.rbhs.rutgers.edu
SUMMARY:NJ ACTS Biostatistics\, Epidemiology and Research Design (BERD) Mini-Methods Grant Program RFA
DESCRIPTION:Biostatistics\, Epidemiology and Research Design (BERD) Mini-Methods Grant Program RFA. Submission deadline for applications is 7/15/19.  Please address questions to NJACTS@rbhs.rutgers.edu
URL:https://clinicaltrials.rbhs.rutgers.edu/event/nj-acts-biostatistics-epidemiology-and-research-design-berd-mini-methods-grant-program-rfa/
END:VEVENT
END:VCALENDAR